BEGIN:VCALENDAR
VERSION:2.0
PRODID:-//CCL331 - ECPv6.15.16//NONSGML v1.0//EN
CALSCALE:GREGORIAN
METHOD:PUBLISH
X-ORIGINAL-URL:https://ccl331.com
X-WR-CALDESC:Events for CCL331
REFRESH-INTERVAL;VALUE=DURATION:PT1H
X-Robots-Tag:noindex
X-PUBLISHED-TTL:PT1H
BEGIN:VTIMEZONE
TZID:America/New_York
BEGIN:DAYLIGHT
TZOFFSETFROM:-0500
TZOFFSETTO:-0400
TZNAME:EDT
DTSTART:20250309T070000
END:DAYLIGHT
BEGIN:STANDARD
TZOFFSETFROM:-0400
TZOFFSETTO:-0500
TZNAME:EST
DTSTART:20251102T060000
END:STANDARD
BEGIN:DAYLIGHT
TZOFFSETFROM:-0500
TZOFFSETTO:-0400
TZNAME:EDT
DTSTART:20260308T070000
END:DAYLIGHT
BEGIN:STANDARD
TZOFFSETFROM:-0400
TZOFFSETTO:-0500
TZNAME:EST
DTSTART:20261101T060000
END:STANDARD
BEGIN:DAYLIGHT
TZOFFSETFROM:-0500
TZOFFSETTO:-0400
TZNAME:EDT
DTSTART:20270314T070000
END:DAYLIGHT
BEGIN:STANDARD
TZOFFSETFROM:-0400
TZOFFSETTO:-0500
TZNAME:EST
DTSTART:20271107T060000
END:STANDARD
END:VTIMEZONE
BEGIN:VEVENT
DTSTART;TZID=America/New_York:20260620T090000
DTEND;TZID=America/New_York:20260620T190000
DTSTAMP:20260422T124830
CREATED:20260421T141736Z
LAST-MODIFIED:20260421T144928Z
UID:6597-1781946000-1781982000@ccl331.com
SUMMARY:1st Annual Cadillac Cornhole Classic
DESCRIPTION:Welcome to the 1st Annual Cadillac Cornhole Classic.\nTo register you teams please to go https://share.scoreholio.com/vbUzxVSvh2b\nYou will need to download the scoreholio app to register\nGood Luck and we will see you there !!!!
URL:https://ccl331.com/event/1st-annual-cadillac-cornhole-classic/
LOCATION:The Wexford Civic Center\, 1320 E 13th St\, Cadillac\, MI\, 49601\, United States
CATEGORIES:Lodge Event
ATTACH;FMTTYPE=image/jpeg:https://ccl331.com/wp-content/uploads/2026/04/image000000-31.jpg
ORGANIZER;CN="Travis Butkovich":MAILTO:travis@kelgraphics.com
END:VEVENT
END:VCALENDAR